BEGIN:VCALENDAR
VERSION:2.0
PRODID:-//Estate Planning Council of Southwest Washington - ECPv6.15.20//NONSGML v1.0//EN
CALSCALE:GREGORIAN
METHOD:PUBLISH
X-WR-CALNAME:Estate Planning Council of Southwest Washington
X-ORIGINAL-URL:https://www.epcsww.org
X-WR-CALDESC:Events for Estate Planning Council of Southwest Washington
REFRESH-INTERVAL;VALUE=DURATION:PT1H
X-Robots-Tag:noindex
X-PUBLISHED-TTL:PT1H
BEGIN:VTIMEZONE
TZID:America/Los_Angeles
BEGIN:DAYLIGHT
TZOFFSETFROM:-0800
TZOFFSETTO:-0700
TZNAME:PDT
DTSTART:20240310T100000
END:DAYLIGHT
BEGIN:STANDARD
TZOFFSETFROM:-0700
TZOFFSETTO:-0800
TZNAME:PST
DTSTART:20241103T090000
END:STANDARD
BEGIN:DAYLIGHT
TZOFFSETFROM:-0800
TZOFFSETTO:-0700
TZNAME:PDT
DTSTART:20250309T100000
END:DAYLIGHT
BEGIN:STANDARD
TZOFFSETFROM:-0700
TZOFFSETTO:-0800
TZNAME:PST
DTSTART:20251102T090000
END:STANDARD
BEGIN:DAYLIGHT
TZOFFSETFROM:-0800
TZOFFSETTO:-0700
TZNAME:PDT
DTSTART:20260308T100000
END:DAYLIGHT
BEGIN:STANDARD
TZOFFSETFROM:-0700
TZOFFSETTO:-0800
TZNAME:PST
DTSTART:20261101T090000
END:STANDARD
END:VTIMEZONE
BEGIN:VEVENT
DTSTART;TZID=America/Los_Angeles:20250603T120000
DTEND;TZID=America/Los_Angeles:20250603T130000
DTSTAMP:20260421T191845
CREATED:20240809T192803Z
LAST-MODIFIED:20240809T192803Z
UID:1201-1748952000-1748955600@www.epcsww.org
SUMMARY:Board Meeting
DESCRIPTION:
URL:https://www.epcsww.org/event/board-meeting-15/
LOCATION:Midwest Trust Company
END:VEVENT
END:VCALENDAR