BEGIN:VCALENDAR
VERSION:2.0
PRODID:-//Estate Planning Council of Southwest Washington - ECPv6.15.20//NONSGML v1.0//EN
CALSCALE:GREGORIAN
METHOD:PUBLISH
X-WR-CALNAME:Estate Planning Council of Southwest Washington
X-ORIGINAL-URL:https://www.epcsww.org
X-WR-CALDESC:Events for Estate Planning Council of Southwest Washington
REFRESH-INTERVAL;VALUE=DURATION:PT1H
X-Robots-Tag:noindex
X-PUBLISHED-TTL:PT1H
BEGIN:VTIMEZONE
TZID:America/Los_Angeles
BEGIN:DAYLIGHT
TZOFFSETFROM:-0800
TZOFFSETTO:-0700
TZNAME:PDT
DTSTART:20230312T100000
END:DAYLIGHT
BEGIN:STANDARD
TZOFFSETFROM:-0700
TZOFFSETTO:-0800
TZNAME:PST
DTSTART:20231105T090000
END:STANDARD
BEGIN:DAYLIGHT
TZOFFSETFROM:-0800
TZOFFSETTO:-0700
TZNAME:PDT
DTSTART:20240310T100000
END:DAYLIGHT
BEGIN:STANDARD
TZOFFSETFROM:-0700
TZOFFSETTO:-0800
TZNAME:PST
DTSTART:20241103T090000
END:STANDARD
BEGIN:DAYLIGHT
TZOFFSETFROM:-0800
TZOFFSETTO:-0700
TZNAME:PDT
DTSTART:20250309T100000
END:DAYLIGHT
BEGIN:STANDARD
TZOFFSETFROM:-0700
TZOFFSETTO:-0800
TZNAME:PST
DTSTART:20251102T090000
END:STANDARD
END:VTIMEZONE
BEGIN:VEVENT
DTSTART;TZID=America/Los_Angeles:20240402T120000
DTEND;TZID=America/Los_Angeles:20240402T130000
DTSTAMP:20260422T150502
CREATED:20231113T210719Z
LAST-MODIFIED:20231115T212923Z
UID:1127-1712059200-1712062800@www.epcsww.org
SUMMARY:Board Meeting
DESCRIPTION:
URL:https://www.epcsww.org/event/board-meeting-4/
LOCATION:WA
END:VEVENT
BEGIN:VEVENT
DTSTART;TZID=America/Los_Angeles:20240416T164500
DTEND;TZID=America/Los_Angeles:20240416T200000
DTSTAMP:20260422T150502
CREATED:20231113T210235Z
LAST-MODIFIED:20240411T124854Z
UID:1117-1713285900-1713297600@www.epcsww.org
SUMMARY:Member Meeting
DESCRIPTION:Navigating the Value of Intangible Assets \nGuest Speaker:\nRichard Reynolds\, CFA\, MAFF\nSilverpine Group \nIn this presentation\, we will discuss what makes an intangible asset and how these assets are identified and valued. Exploring the topic further\, we will also discuss strategies around capitalizing and transferring these assets with some case studies as examples. \nRichard Reynolds has over 13 years of experience performing business valuations for estate planning\, fair value accounting\, and exit planning purposes. He has been involved in over 1\,000 appraisals spread across more than 150 industries. Starting his career in Silicon Valley with a boutique valuation firm\, Mr. Reynolds now resides in Vancouver\, Washington operating his own practice\, Silverpine Group\, and specializes in valuations of businesses\, minority interests\, intangible assets\, and complex securities. Mr. Reynolds graduated from University of Oregon with a major in accounting and later received his Master of Science in Finance from Waseda University in Tokyo\, Japan.
URL:https://www.epcsww.org/event/member-meeting-3/
LOCATION:Royal Oaks Country Club\, Vancouver\, WA\, United States
END:VEVENT
END:VCALENDAR