BEGIN:VCALENDAR
VERSION:2.0
PRODID:-//Estate Planning Council of Southwest Washington - ECPv6.15.20//NONSGML v1.0//EN
CALSCALE:GREGORIAN
METHOD:PUBLISH
X-ORIGINAL-URL:https://www.epcsww.org
X-WR-CALDESC:Events for Estate Planning Council of Southwest Washington
REFRESH-INTERVAL;VALUE=DURATION:PT1H
X-Robots-Tag:noindex
X-PUBLISHED-TTL:PT1H
BEGIN:VTIMEZONE
TZID:America/Los_Angeles
BEGIN:DAYLIGHT
TZOFFSETFROM:-0800
TZOFFSETTO:-0700
TZNAME:PDT
DTSTART:20230312T100000
END:DAYLIGHT
BEGIN:STANDARD
TZOFFSETFROM:-0700
TZOFFSETTO:-0800
TZNAME:PST
DTSTART:20231105T090000
END:STANDARD
BEGIN:DAYLIGHT
TZOFFSETFROM:-0800
TZOFFSETTO:-0700
TZNAME:PDT
DTSTART:20240310T100000
END:DAYLIGHT
BEGIN:STANDARD
TZOFFSETFROM:-0700
TZOFFSETTO:-0800
TZNAME:PST
DTSTART:20241103T090000
END:STANDARD
BEGIN:DAYLIGHT
TZOFFSETFROM:-0800
TZOFFSETTO:-0700
TZNAME:PDT
DTSTART:20250309T100000
END:DAYLIGHT
BEGIN:STANDARD
TZOFFSETFROM:-0700
TZOFFSETTO:-0800
TZNAME:PST
DTSTART:20251102T090000
END:STANDARD
END:VTIMEZONE
BEGIN:VEVENT
DTSTART;TZID=America/Los_Angeles:20240305T120000
DTEND;TZID=America/Los_Angeles:20240305T130000
DTSTAMP:20260422T162545
CREATED:20231113T210646Z
LAST-MODIFIED:20231115T212941Z
UID:1125-1709640000-1709643600@www.epcsww.org
SUMMARY:Board Meeting
DESCRIPTION:
URL:https://www.epcsww.org/event/board-meeting-3/
LOCATION:WA
END:VEVENT
BEGIN:VEVENT
DTSTART;TZID=America/Los_Angeles:20240321T164500
DTEND;TZID=America/Los_Angeles:20240321T200000
DTSTAMP:20260422T162545
CREATED:20231113T210148Z
LAST-MODIFIED:20240411T125021Z
UID:1115-1711039500-1711051200@www.epcsww.org
SUMMARY:Member Meeting
DESCRIPTION:Establishing A Strategic Giving Plan: Preparation for Pre-2026 \nGuest Speakers: \nMichael Phillips and Randy Grove\nLanderholm \nMike Phillips focuses his practice on estate planning\, probate\, and trust administration. The cornerstone of Mike’s approach is forming long term relationships with his clients built on trust\, open communication\, and mutual respect. \nRandy Grove has been with Landerholm\, P.S. since he began practicing law in 1982. His breadth of knowledge and experience in the trust and estates field earned him election to the exclusive American College of Trust and Estate Counsel (ACTEC)\, an invitation to present at the Heckerling Estate Planning Institute\, and a host of other professional honors.
URL:https://www.epcsww.org/event/member-meeting-2/
LOCATION:Royal Oaks Country Club\, Vancouver\, WA\, United States
END:VEVENT
END:VCALENDAR