BEGIN:VCALENDAR
VERSION:2.0
PRODID:-//Estate Planning Council of Southwest Washington - ECPv6.15.20//NONSGML v1.0//EN
CALSCALE:GREGORIAN
METHOD:PUBLISH
X-ORIGINAL-URL:https://www.epcsww.org
X-WR-CALDESC:Events for Estate Planning Council of Southwest Washington
REFRESH-INTERVAL;VALUE=DURATION:PT1H
X-Robots-Tag:noindex
X-PUBLISHED-TTL:PT1H
BEGIN:VTIMEZONE
TZID:America/Los_Angeles
BEGIN:DAYLIGHT
TZOFFSETFROM:-0800
TZOFFSETTO:-0700
TZNAME:PDT
DTSTART:20230312T100000
END:DAYLIGHT
BEGIN:STANDARD
TZOFFSETFROM:-0700
TZOFFSETTO:-0800
TZNAME:PST
DTSTART:20231105T090000
END:STANDARD
BEGIN:DAYLIGHT
TZOFFSETFROM:-0800
TZOFFSETTO:-0700
TZNAME:PDT
DTSTART:20240310T100000
END:DAYLIGHT
BEGIN:STANDARD
TZOFFSETFROM:-0700
TZOFFSETTO:-0800
TZNAME:PST
DTSTART:20241103T090000
END:STANDARD
BEGIN:DAYLIGHT
TZOFFSETFROM:-0800
TZOFFSETTO:-0700
TZNAME:PDT
DTSTART:20250309T100000
END:DAYLIGHT
BEGIN:STANDARD
TZOFFSETFROM:-0700
TZOFFSETTO:-0800
TZNAME:PST
DTSTART:20251102T090000
END:STANDARD
BEGIN:DAYLIGHT
TZOFFSETFROM:-0800
TZOFFSETTO:-0700
TZNAME:PDT
DTSTART:20260308T100000
END:DAYLIGHT
BEGIN:STANDARD
TZOFFSETFROM:-0700
TZOFFSETTO:-0800
TZNAME:PST
DTSTART:20261101T090000
END:STANDARD
BEGIN:DAYLIGHT
TZOFFSETFROM:-0800
TZOFFSETTO:-0700
TZNAME:PDT
DTSTART:20270314T100000
END:DAYLIGHT
BEGIN:STANDARD
TZOFFSETFROM:-0700
TZOFFSETTO:-0800
TZNAME:PST
DTSTART:20271107T090000
END:STANDARD
END:VTIMEZONE
BEGIN:VEVENT
DTSTART;TZID=America/Los_Angeles:20240910T120000
DTEND;TZID=America/Los_Angeles:20240910T130000
DTSTAMP:20260422T160847
CREATED:20240809T192416Z
LAST-MODIFIED:20240809T192416Z
UID:1184-1725969600-1725973200@www.epcsww.org
SUMMARY:Board Meeting
DESCRIPTION:
URL:https://www.epcsww.org/event/board-meeting-7/
LOCATION:Midwest Trust Company
END:VEVENT
BEGIN:VEVENT
DTSTART;TZID=America/Los_Angeles:20240917T164500
DTEND;TZID=America/Los_Angeles:20240917T200000
DTSTAMP:20260422T160847
CREATED:20240809T183800Z
LAST-MODIFIED:20240911T152900Z
UID:1168-1726591500-1726603200@www.epcsww.org
SUMMARY:Member Meeting
DESCRIPTION:“Diminished Capacity & Trusts” \nJessie Minger\, Guest Speaker\nSchwabe\, Williamson & Wyatt \n4:45 p.m. | Social/Networking\n5:30-6:30 p.m. | Dinner Service and Speaker Presentation
URL:https://www.epcsww.org/event/member-meeting-5/
LOCATION:Heathman Lodge\, 7801 NE Greenwood Drive\, Vancouver\, WA\, 98662\, United States
END:VEVENT
BEGIN:VEVENT
DTSTART;TZID=America/Los_Angeles:20241001T120000
DTEND;TZID=America/Los_Angeles:20241001T130000
DTSTAMP:20260422T160847
CREATED:20240809T192447Z
LAST-MODIFIED:20240809T192447Z
UID:1187-1727784000-1727787600@www.epcsww.org
SUMMARY:Board Meeting
DESCRIPTION:
URL:https://www.epcsww.org/event/board-meeting-8/
LOCATION:Midwest Trust Company
END:VEVENT
BEGIN:VEVENT
DTSTART;TZID=America/Los_Angeles:20241017T164500
DTEND;TZID=America/Los_Angeles:20241017T200000
DTSTAMP:20260422T160847
CREATED:20240809T191837Z
LAST-MODIFIED:20240809T191837Z
UID:1171-1729183500-1729195200@www.epcsww.org
SUMMARY:Member Meeting
DESCRIPTION:
URL:https://www.epcsww.org/event/member-meeting-6/
LOCATION:Ripple Impact NW
END:VEVENT
BEGIN:VEVENT
DTSTART;TZID=America/Los_Angeles:20241112T120000
DTEND;TZID=America/Los_Angeles:20241112T130000
DTSTAMP:20260422T160847
CREATED:20240809T192520Z
LAST-MODIFIED:20240809T192520Z
UID:1189-1731412800-1731416400@www.epcsww.org
SUMMARY:Board Meeting
DESCRIPTION:
URL:https://www.epcsww.org/event/board-meeting-9/
LOCATION:Midwest Trust Company
END:VEVENT
BEGIN:VEVENT
DTSTART;TZID=America/Los_Angeles:20241119T164500
DTEND;TZID=America/Los_Angeles:20241119T200000
DTSTAMP:20260422T160847
CREATED:20240809T193122Z
LAST-MODIFIED:20241105T192456Z
UID:1203-1732034700-1732046400@www.epcsww.org
SUMMARY:Member Meeting
DESCRIPTION:“Investment Strategy and Wealth Management Topics” \nGuest Speakers:\nJason Norris\, CFA & Brett Norris\, CFP®\nFerguson Wellman Capital Management \n4:45 p.m. | Social/Networking\n5:30-6:30 p.m. | Dinner Service and Speaker Presentation \nHeathman Lodge\n7801 NE Greenwood Drive\, Vancouver\, WA 98662 \n 
URL:https://www.epcsww.org/event/member-meeting-7/
LOCATION:Heathman Lodge\, 7801 NE Greenwood Drive\, Vancouver\, WA\, 98662\, United States
END:VEVENT
BEGIN:VEVENT
DTSTART;TZID=America/Los_Angeles:20250107T120000
DTEND;TZID=America/Los_Angeles:20250107T130000
DTSTAMP:20260422T160847
CREATED:20240809T192551Z
LAST-MODIFIED:20240809T192551Z
UID:1191-1736251200-1736254800@www.epcsww.org
SUMMARY:Board Meeting
DESCRIPTION:
URL:https://www.epcsww.org/event/board-meeting-10/
LOCATION:Midwest Trust Company
END:VEVENT
BEGIN:VEVENT
DTSTART;TZID=America/Los_Angeles:20250121T164500
DTEND;TZID=America/Los_Angeles:20250121T200000
DTSTAMP:20260422T160847
CREATED:20240809T192016Z
LAST-MODIFIED:20250108T144257Z
UID:1176-1737477900-1737489600@www.epcsww.org
SUMMARY:Member Meeting
DESCRIPTION:2024 Market Recap and 2025 Forecast \nGuest Speaker: \nT.J. McConville\, Chief Investment Officer\nBecker Capital Management
URL:https://www.epcsww.org/event/member-meeting-8/
LOCATION:Heathman Lodge\, 7801 NE Greenwood Drive\, Vancouver\, WA\, 98662\, United States
END:VEVENT
BEGIN:VEVENT
DTSTART;TZID=America/Los_Angeles:20250204T120000
DTEND;TZID=America/Los_Angeles:20250204T130000
DTSTAMP:20260422T160847
CREATED:20240809T192617Z
LAST-MODIFIED:20240809T192617Z
UID:1193-1738670400-1738674000@www.epcsww.org
SUMMARY:Board Meeting
DESCRIPTION:
URL:https://www.epcsww.org/event/board-meeting-11/
LOCATION:Midwest Trust Company
END:VEVENT
BEGIN:VEVENT
DTSTART;TZID=America/Los_Angeles:20250218T164500
DTEND;TZID=America/Los_Angeles:20250218T200000
DTSTAMP:20260422T160847
CREATED:20240809T192057Z
LAST-MODIFIED:20250212T153614Z
UID:1178-1739897100-1739908800@www.epcsww.org
SUMMARY:Member Meeting
DESCRIPTION:“Fraud Found in Businesses”\nTiffany Couch\, Accuity Forensics \n4:45 p.m. | Social/Networking\n5:30-6:30 p.m. | Dinner Service and Speaker Presentation \nHeathman Lodge\n7801 NE Greenwood Drive\, Vancouver\, WA 98662
URL:https://www.epcsww.org/event/member-meeting-9/
LOCATION:Heathman Lodge\, 7801 NE Greenwood Drive\, Vancouver\, WA\, 98662\, United States
END:VEVENT
BEGIN:VEVENT
DTSTART;TZID=America/Los_Angeles:20250304T120000
DTEND;TZID=America/Los_Angeles:20250304T130000
DTSTAMP:20260422T160847
CREATED:20240809T192644Z
LAST-MODIFIED:20240809T192644Z
UID:1195-1741089600-1741093200@www.epcsww.org
SUMMARY:Board Meeting
DESCRIPTION:
URL:https://www.epcsww.org/event/board-meeting-12/
LOCATION:Midwest Trust Company
END:VEVENT
BEGIN:VEVENT
DTSTART;TZID=America/Los_Angeles:20250401T120000
DTEND;TZID=America/Los_Angeles:20250401T130000
DTSTAMP:20260422T160847
CREATED:20240809T192710Z
LAST-MODIFIED:20240809T192710Z
UID:1197-1743508800-1743512400@www.epcsww.org
SUMMARY:Board Meeting
DESCRIPTION:
URL:https://www.epcsww.org/event/board-meeting-13/
LOCATION:Midwest Trust Company
END:VEVENT
BEGIN:VEVENT
DTSTART;TZID=America/Los_Angeles:20250415T164500
DTEND;TZID=America/Los_Angeles:20250415T200000
DTSTAMP:20260422T160847
CREATED:20240809T192146Z
LAST-MODIFIED:20240809T192146Z
UID:1180-1744735500-1744747200@www.epcsww.org
SUMMARY:Member Meeting
DESCRIPTION:
URL:https://www.epcsww.org/event/member-meeting-10/
LOCATION:Heathman Lodge\, 7801 NE Greenwood Drive\, Vancouver\, WA\, 98662\, United States
END:VEVENT
BEGIN:VEVENT
DTSTART;TZID=America/Los_Angeles:20250506T120000
DTEND;TZID=America/Los_Angeles:20250506T130000
DTSTAMP:20260422T160847
CREATED:20240809T192736Z
LAST-MODIFIED:20240809T192736Z
UID:1199-1746532800-1746536400@www.epcsww.org
SUMMARY:Board Meeting
DESCRIPTION:
URL:https://www.epcsww.org/event/board-meeting-14/
LOCATION:Midwest Trust Company
END:VEVENT
BEGIN:VEVENT
DTSTART;TZID=America/Los_Angeles:20250520T164500
DTEND;TZID=America/Los_Angeles:20250520T200000
DTSTAMP:20260422T160847
CREATED:20240809T192237Z
LAST-MODIFIED:20240809T192237Z
UID:1182-1747759500-1747771200@www.epcsww.org
SUMMARY:Member Meeting & Annual Meeting
DESCRIPTION:
URL:https://www.epcsww.org/event/member-meeting-annual-meeting/
LOCATION:Heathman Lodge\, 7801 NE Greenwood Drive\, Vancouver\, WA\, 98662\, United States
END:VEVENT
BEGIN:VEVENT
DTSTART;TZID=America/Los_Angeles:20250603T120000
DTEND;TZID=America/Los_Angeles:20250603T130000
DTSTAMP:20260422T160847
CREATED:20240809T192803Z
LAST-MODIFIED:20240809T192803Z
UID:1201-1748952000-1748955600@www.epcsww.org
SUMMARY:Board Meeting
DESCRIPTION:
URL:https://www.epcsww.org/event/board-meeting-15/
LOCATION:Midwest Trust Company
END:VEVENT
BEGIN:VEVENT
DTSTART;TZID=America/Los_Angeles:20250916T164500
DTEND;TZID=America/Los_Angeles:20250916T183000
DTSTAMP:20260422T160847
CREATED:20250617T195324Z
LAST-MODIFIED:20250815T184449Z
UID:1249-1758041100-1758047400@www.epcsww.org
SUMMARY:Member Meeting
DESCRIPTION:“Estate Planning for Modern Families: Planning for Diversity and Flexibility”\nWendy Goffe\nOgden Murphy Wallace P.L.L.C. \n4:45 p.m. | Social/Networking\n5:30-6:30 p.m. | Dinner Service and Speaker Presentation
URL:https://www.epcsww.org/event/member-meeting-11/
LOCATION:Heathman Lodge\, 7801 NE Greenwood Drive\, Vancouver\, WA\, 98662\, United States
END:VEVENT
BEGIN:VEVENT
DTSTART;TZID=America/Los_Angeles:20251007T164500
DTEND;TZID=America/Los_Angeles:20251007T183000
DTSTAMP:20260422T160847
CREATED:20250617T195556Z
LAST-MODIFIED:20251006T190101Z
UID:1251-1759855500-1759861800@www.epcsww.org
SUMMARY:Member Meeting
DESCRIPTION:Northwest Association for Blind Athletes (NWABA) \n5:00 p.m. | Doors open\, bar open\, hors d’oeuvres\, interactive office tour\, raffle \n5:25 p.m. | Presentation from Billy Henry\, Founder & CEO of NWABA \n5:55 p.m. | Q & A \n6:00 p.m. | Conclusion
URL:https://www.epcsww.org/event/member-meeting-12/
LOCATION:Northwest Association of Blind Athletes (NWABA)\, 703 Broadway Street\, Suite 600\, Vancouver\, WA\, 98660\, United States
END:VEVENT
BEGIN:VEVENT
DTSTART;TZID=America/Los_Angeles:20251118T164500
DTEND;TZID=America/Los_Angeles:20251118T183000
DTSTAMP:20260422T160847
CREATED:20250617T195644Z
LAST-MODIFIED:20251024T132954Z
UID:1254-1763484300-1763490600@www.epcsww.org
SUMMARY:Member Meeting
DESCRIPTION:“Two Systems\, One Estate: What Washington’s Tax Changes Mean for Your Clients” \nRichard Reynolds\nRedwod Valuation Partners \n4:45 p.m. | Social/Networking\n5:30-6:30 p.m. | Dinner Service and Speaker Presentation
URL:https://www.epcsww.org/event/member-meeting-13/
LOCATION:Heathman Lodge\, 7801 NE Greenwood Drive\, Vancouver\, WA\, 98662\, United States
END:VEVENT
BEGIN:VEVENT
DTSTART;TZID=America/Los_Angeles:20260120T164500
DTEND;TZID=America/Los_Angeles:20260120T183000
DTSTAMP:20260422T160847
CREATED:20250617T195725Z
LAST-MODIFIED:20260109T182915Z
UID:1256-1768927500-1768933800@www.epcsww.org
SUMMARY:Member Meeting
DESCRIPTION:“Business Succession” \nSpeakers:\nMatt Bisturas of Schwabe\nSteve Hopkins of Charter BTA \n4:45 p.m. | Social/Networking\n5:30-6:30 p.m. | Dinner Service and Speaker Presentation \nRegister
URL:https://www.epcsww.org/event/member-meeting-14/
LOCATION:Heathman Lodge\, 7801 NE Greenwood Drive\, Vancouver\, WA\, 98662\, United States
END:VEVENT
BEGIN:VEVENT
DTSTART;TZID=America/Los_Angeles:20260217T164500
DTEND;TZID=America/Los_Angeles:20260217T183000
DTSTAMP:20260422T160847
CREATED:20250617T195801Z
LAST-MODIFIED:20250617T195801Z
UID:1258-1771346700-1771353000@www.epcsww.org
SUMMARY:Member Meeting
DESCRIPTION:  \n  \n4:45 p.m. | Social/Networking\n5:30-6:30 p.m. | Dinner Service and Speaker Presentation
URL:https://www.epcsww.org/event/member-meeting-15/
LOCATION:Heathman Lodge\, 7801 NE Greenwood Drive\, Vancouver\, WA\, 98662\, United States
END:VEVENT
BEGIN:VEVENT
DTSTART;TZID=America/Los_Angeles:20260421T164500
DTEND;TZID=America/Los_Angeles:20260421T183000
DTSTAMP:20260422T160847
CREATED:20250617T195834Z
LAST-MODIFIED:20250617T195834Z
UID:1260-1776789900-1776796200@www.epcsww.org
SUMMARY:Member Meeting
DESCRIPTION:  \n  \n4:45 p.m. | Social/Networking\n5:30-6:30 p.m. | Dinner Service and Speaker Presentation
URL:https://www.epcsww.org/event/member-meeting-16/
LOCATION:Heathman Lodge\, 7801 NE Greenwood Drive\, Vancouver\, WA\, 98662\, United States
END:VEVENT
BEGIN:VEVENT
DTSTART;TZID=America/Los_Angeles:20260519T164500
DTEND;TZID=America/Los_Angeles:20260519T183000
DTSTAMP:20260422T160847
CREATED:20250617T195950Z
LAST-MODIFIED:20250617T195950Z
UID:1262-1779209100-1779215400@www.epcsww.org
SUMMARY:Member Meeting & Annual Meeting
DESCRIPTION:  \n  \n4:45 p.m. — Social/Networking / Annual Meeting\n5:30-6:30 p.m. — Dinner Service and Speaker Presentation
URL:https://www.epcsww.org/event/member-meeting-annual-meeting-2/
LOCATION:Heathman Lodge\, 7801 NE Greenwood Drive\, Vancouver\, WA\, 98662\, United States
END:VEVENT
END:VCALENDAR