BEGIN:VCALENDAR
VERSION:2.0
PRODID:-//Estate Planning Council of Southwest Washington - ECPv6.15.20//NONSGML v1.0//EN
CALSCALE:GREGORIAN
METHOD:PUBLISH
X-WR-CALNAME:Estate Planning Council of Southwest Washington
X-ORIGINAL-URL:https://www.epcsww.org
X-WR-CALDESC:Events for Estate Planning Council of Southwest Washington
REFRESH-INTERVAL;VALUE=DURATION:PT1H
X-Robots-Tag:noindex
X-PUBLISHED-TTL:PT1H
BEGIN:VTIMEZONE
TZID:America/Los_Angeles
BEGIN:DAYLIGHT
TZOFFSETFROM:-0800
TZOFFSETTO:-0700
TZNAME:PDT
DTSTART:20220313T100000
END:DAYLIGHT
BEGIN:STANDARD
TZOFFSETFROM:-0700
TZOFFSETTO:-0800
TZNAME:PST
DTSTART:20221106T090000
END:STANDARD
BEGIN:DAYLIGHT
TZOFFSETFROM:-0800
TZOFFSETTO:-0700
TZNAME:PDT
DTSTART:20230312T100000
END:DAYLIGHT
BEGIN:STANDARD
TZOFFSETFROM:-0700
TZOFFSETTO:-0800
TZNAME:PST
DTSTART:20231105T090000
END:STANDARD
BEGIN:DAYLIGHT
TZOFFSETFROM:-0800
TZOFFSETTO:-0700
TZNAME:PDT
DTSTART:20240310T100000
END:DAYLIGHT
BEGIN:STANDARD
TZOFFSETFROM:-0700
TZOFFSETTO:-0800
TZNAME:PST
DTSTART:20241103T090000
END:STANDARD
BEGIN:DAYLIGHT
TZOFFSETFROM:-0800
TZOFFSETTO:-0700
TZNAME:PDT
DTSTART:20250309T100000
END:DAYLIGHT
BEGIN:STANDARD
TZOFFSETFROM:-0700
TZOFFSETTO:-0800
TZNAME:PST
DTSTART:20251102T090000
END:STANDARD
END:VTIMEZONE
BEGIN:VEVENT
DTSTART;TZID=America/Los_Angeles:20240917T164500
DTEND;TZID=America/Los_Angeles:20240917T200000
DTSTAMP:20260422T150913
CREATED:20240809T183800Z
LAST-MODIFIED:20240911T152900Z
UID:1168-1726591500-1726603200@www.epcsww.org
SUMMARY:Member Meeting
DESCRIPTION:“Diminished Capacity & Trusts” \nJessie Minger\, Guest Speaker\nSchwabe\, Williamson & Wyatt \n4:45 p.m. | Social/Networking\n5:30-6:30 p.m. | Dinner Service and Speaker Presentation
URL:https://www.epcsww.org/event/member-meeting-5/
LOCATION:Heathman Lodge\, 7801 NE Greenwood Drive\, Vancouver\, WA\, 98662\, United States
END:VEVENT
BEGIN:VEVENT
DTSTART;TZID=America/Los_Angeles:20240910T120000
DTEND;TZID=America/Los_Angeles:20240910T130000
DTSTAMP:20260422T150913
CREATED:20240809T192416Z
LAST-MODIFIED:20240809T192416Z
UID:1184-1725969600-1725973200@www.epcsww.org
SUMMARY:Board Meeting
DESCRIPTION:
URL:https://www.epcsww.org/event/board-meeting-7/
LOCATION:Midwest Trust Company
END:VEVENT
BEGIN:VEVENT
DTSTART;TZID=America/Los_Angeles:20240604T160000
DTEND;TZID=America/Los_Angeles:20240604T170000
DTSTAMP:20260422T150913
CREATED:20231113T210827Z
LAST-MODIFIED:20231115T212838Z
UID:1131-1717516800-1717520400@www.epcsww.org
SUMMARY:Board Meeting
DESCRIPTION:
URL:https://www.epcsww.org/event/board-meeting-6/
LOCATION:WA
END:VEVENT
BEGIN:VEVENT
DTSTART;TZID=America/Los_Angeles:20240516T164500
DTEND;TZID=America/Los_Angeles:20240516T200000
DTSTAMP:20260422T150913
CREATED:20231113T210333Z
LAST-MODIFIED:20240510T132110Z
UID:1119-1715877900-1715889600@www.epcsww.org
SUMMARY:Member Meeting & Annual Meeting
DESCRIPTION:Guest Speakers: \nKripa Raguram and Jordan Patterson\nPerkins & Co \n“10 Income\, Gift and Estate Planning Considerations”
URL:https://www.epcsww.org/event/member-meeting-4/
LOCATION:Royal Oaks Country Club\, Vancouver\, WA\, United States
END:VEVENT
BEGIN:VEVENT
DTSTART;TZID=America/Los_Angeles:20240507T120000
DTEND;TZID=America/Los_Angeles:20240507T130000
DTSTAMP:20260422T150913
CREATED:20231113T210745Z
LAST-MODIFIED:20231115T212900Z
UID:1129-1715083200-1715086800@www.epcsww.org
SUMMARY:Board Meeting
DESCRIPTION:
URL:https://www.epcsww.org/event/board-meeting-5/
LOCATION:WA
END:VEVENT
BEGIN:VEVENT
DTSTART;TZID=America/Los_Angeles:20240416T164500
DTEND;TZID=America/Los_Angeles:20240416T200000
DTSTAMP:20260422T150913
CREATED:20231113T210235Z
LAST-MODIFIED:20240411T124854Z
UID:1117-1713285900-1713297600@www.epcsww.org
SUMMARY:Member Meeting
DESCRIPTION:Navigating the Value of Intangible Assets \nGuest Speaker:\nRichard Reynolds\, CFA\, MAFF\nSilverpine Group \nIn this presentation\, we will discuss what makes an intangible asset and how these assets are identified and valued. Exploring the topic further\, we will also discuss strategies around capitalizing and transferring these assets with some case studies as examples. \nRichard Reynolds has over 13 years of experience performing business valuations for estate planning\, fair value accounting\, and exit planning purposes. He has been involved in over 1\,000 appraisals spread across more than 150 industries. Starting his career in Silicon Valley with a boutique valuation firm\, Mr. Reynolds now resides in Vancouver\, Washington operating his own practice\, Silverpine Group\, and specializes in valuations of businesses\, minority interests\, intangible assets\, and complex securities. Mr. Reynolds graduated from University of Oregon with a major in accounting and later received his Master of Science in Finance from Waseda University in Tokyo\, Japan.
URL:https://www.epcsww.org/event/member-meeting-3/
LOCATION:Royal Oaks Country Club\, Vancouver\, WA\, United States
END:VEVENT
BEGIN:VEVENT
DTSTART;TZID=America/Los_Angeles:20240402T120000
DTEND;TZID=America/Los_Angeles:20240402T130000
DTSTAMP:20260422T150913
CREATED:20231113T210719Z
LAST-MODIFIED:20231115T212923Z
UID:1127-1712059200-1712062800@www.epcsww.org
SUMMARY:Board Meeting
DESCRIPTION:
URL:https://www.epcsww.org/event/board-meeting-4/
LOCATION:WA
END:VEVENT
BEGIN:VEVENT
DTSTART;TZID=America/Los_Angeles:20240321T164500
DTEND;TZID=America/Los_Angeles:20240321T200000
DTSTAMP:20260422T150913
CREATED:20231113T210148Z
LAST-MODIFIED:20240411T125021Z
UID:1115-1711039500-1711051200@www.epcsww.org
SUMMARY:Member Meeting
DESCRIPTION:Establishing A Strategic Giving Plan: Preparation for Pre-2026 \nGuest Speakers: \nMichael Phillips and Randy Grove\nLanderholm \nMike Phillips focuses his practice on estate planning\, probate\, and trust administration. The cornerstone of Mike’s approach is forming long term relationships with his clients built on trust\, open communication\, and mutual respect. \nRandy Grove has been with Landerholm\, P.S. since he began practicing law in 1982. His breadth of knowledge and experience in the trust and estates field earned him election to the exclusive American College of Trust and Estate Counsel (ACTEC)\, an invitation to present at the Heckerling Estate Planning Institute\, and a host of other professional honors.
URL:https://www.epcsww.org/event/member-meeting-2/
LOCATION:Royal Oaks Country Club\, Vancouver\, WA\, United States
END:VEVENT
BEGIN:VEVENT
DTSTART;TZID=America/Los_Angeles:20240305T120000
DTEND;TZID=America/Los_Angeles:20240305T130000
DTSTAMP:20260422T150913
CREATED:20231113T210646Z
LAST-MODIFIED:20231115T212941Z
UID:1125-1709640000-1709643600@www.epcsww.org
SUMMARY:Board Meeting
DESCRIPTION:
URL:https://www.epcsww.org/event/board-meeting-3/
LOCATION:WA
END:VEVENT
BEGIN:VEVENT
DTSTART;TZID=America/Los_Angeles:20240215T164500
DTEND;TZID=America/Los_Angeles:20240215T200000
DTSTAMP:20260422T150913
CREATED:20231113T210109Z
LAST-MODIFIED:20240411T125407Z
UID:1113-1708015500-1708027200@www.epcsww.org
SUMMARY:Member Meeting
DESCRIPTION:Recap of 2023 and Forecast of 2024 \nGuest Speakers: \nPat Becker\nTJ McConville\nBecker Capital Management \nJoin us for an engaging meeting featuring Pat Becker\, CEO & President\, and TJ McConville\, CIO of Becker Capital Management. During this session\, they will provide a comprehensive overview of 2023 and offer insights into their forecasts for 2024. Topics of discussion will include interest rates\, the economy\, the upcoming election\, AI\, and more. Don’t miss this opportunity to gain valuable insights! \n 
URL:https://www.epcsww.org/event/member-meeting/
LOCATION:Royal Oaks Country Club\, Vancouver\, WA\, United States
END:VEVENT
BEGIN:VEVENT
DTSTART;TZID=America/Los_Angeles:20240206T120000
DTEND;TZID=America/Los_Angeles:20240206T130000
DTSTAMP:20260422T150913
CREATED:20231113T210611Z
LAST-MODIFIED:20231115T213001Z
UID:1123-1707220800-1707224400@www.epcsww.org
SUMMARY:Board Meeting
DESCRIPTION:
URL:https://www.epcsww.org/event/board-meeting-2/
LOCATION:WA
END:VEVENT
BEGIN:VEVENT
DTSTART;TZID=America/Los_Angeles:20240102T120000
DTEND;TZID=America/Los_Angeles:20240102T130000
DTSTAMP:20260422T150913
CREATED:20231113T210536Z
LAST-MODIFIED:20231115T213020Z
UID:1121-1704196800-1704200400@www.epcsww.org
SUMMARY:Board Meeting
DESCRIPTION:
URL:https://www.epcsww.org/event/board-meeting/
LOCATION:WA
END:VEVENT
BEGIN:VEVENT
DTSTART;TZID=America/Los_Angeles:20231121T164500
DTEND;TZID=America/Los_Angeles:20231121T200000
DTSTAMP:20260422T150913
CREATED:20231113T203338Z
LAST-MODIFIED:20231113T205955Z
UID:1105-1700585100-1700596800@www.epcsww.org
SUMMARY:Member Meeting
DESCRIPTION:SECURE 2.0 \nGuest Speaker:\nJoseph M. Burt\, President\, Pension Plan Specialists P.C.
URL:https://www.epcsww.org/event/test/
LOCATION:Royal Oaks Country Club\, Vancouver\, WA\, United States
END:VEVENT
END:VCALENDAR