BEGIN:VCALENDAR
VERSION:2.0
PRODID:-//Estate Planning Council of Southwest Washington - ECPv6.15.20//NONSGML v1.0//EN
CALSCALE:GREGORIAN
METHOD:PUBLISH
X-WR-CALNAME:Estate Planning Council of Southwest Washington
X-ORIGINAL-URL:https://www.epcsww.org
X-WR-CALDESC:Events for Estate Planning Council of Southwest Washington
REFRESH-INTERVAL;VALUE=DURATION:PT1H
X-Robots-Tag:noindex
X-PUBLISHED-TTL:PT1H
BEGIN:VTIMEZONE
TZID:America/Los_Angeles
BEGIN:DAYLIGHT
TZOFFSETFROM:-0800
TZOFFSETTO:-0700
TZNAME:PDT
DTSTART:20240310T100000
END:DAYLIGHT
BEGIN:STANDARD
TZOFFSETFROM:-0700
TZOFFSETTO:-0800
TZNAME:PST
DTSTART:20241103T090000
END:STANDARD
BEGIN:DAYLIGHT
TZOFFSETFROM:-0800
TZOFFSETTO:-0700
TZNAME:PDT
DTSTART:20250309T100000
END:DAYLIGHT
BEGIN:STANDARD
TZOFFSETFROM:-0700
TZOFFSETTO:-0800
TZNAME:PST
DTSTART:20251102T090000
END:STANDARD
BEGIN:DAYLIGHT
TZOFFSETFROM:-0800
TZOFFSETTO:-0700
TZNAME:PDT
DTSTART:20260308T100000
END:DAYLIGHT
BEGIN:STANDARD
TZOFFSETFROM:-0700
TZOFFSETTO:-0800
TZNAME:PST
DTSTART:20261101T090000
END:STANDARD
END:VTIMEZONE
BEGIN:VEVENT
DTSTART;TZID=America/Los_Angeles:20251118T164500
DTEND;TZID=America/Los_Angeles:20251118T183000
DTSTAMP:20260421T135207
CREATED:20250617T195644Z
LAST-MODIFIED:20251024T132954Z
UID:1254-1763484300-1763490600@www.epcsww.org
SUMMARY:Member Meeting
DESCRIPTION:“Two Systems\, One Estate: What Washington’s Tax Changes Mean for Your Clients” \nRichard Reynolds\nRedwod Valuation Partners \n4:45 p.m. | Social/Networking\n5:30-6:30 p.m. | Dinner Service and Speaker Presentation
URL:https://www.epcsww.org/event/member-meeting-13/
LOCATION:Heathman Lodge\, 7801 NE Greenwood Drive\, Vancouver\, WA\, 98662\, United States
END:VEVENT
END:VCALENDAR