BEGIN:VCALENDAR
VERSION:2.0
PRODID:-//Estate Planning Council of Southwest Washington - ECPv6.15.20//NONSGML v1.0//EN
CALSCALE:GREGORIAN
METHOD:PUBLISH
X-ORIGINAL-URL:https://www.epcsww.org
X-WR-CALDESC:Events for Estate Planning Council of Southwest Washington
REFRESH-INTERVAL;VALUE=DURATION:PT1H
X-Robots-Tag:noindex
X-PUBLISHED-TTL:PT1H
BEGIN:VTIMEZONE
TZID:America/Los_Angeles
BEGIN:DAYLIGHT
TZOFFSETFROM:-0800
TZOFFSETTO:-0700
TZNAME:PDT
DTSTART:20240310T100000
END:DAYLIGHT
BEGIN:STANDARD
TZOFFSETFROM:-0700
TZOFFSETTO:-0800
TZNAME:PST
DTSTART:20241103T090000
END:STANDARD
BEGIN:DAYLIGHT
TZOFFSETFROM:-0800
TZOFFSETTO:-0700
TZNAME:PDT
DTSTART:20250309T100000
END:DAYLIGHT
BEGIN:STANDARD
TZOFFSETFROM:-0700
TZOFFSETTO:-0800
TZNAME:PST
DTSTART:20251102T090000
END:STANDARD
BEGIN:DAYLIGHT
TZOFFSETFROM:-0800
TZOFFSETTO:-0700
TZNAME:PDT
DTSTART:20260308T100000
END:DAYLIGHT
BEGIN:STANDARD
TZOFFSETFROM:-0700
TZOFFSETTO:-0800
TZNAME:PST
DTSTART:20261101T090000
END:STANDARD
END:VTIMEZONE
BEGIN:VEVENT
DTSTART;TZID=America/Los_Angeles:20250916T164500
DTEND;TZID=America/Los_Angeles:20250916T183000
DTSTAMP:20260421T162649
CREATED:20250617T195324Z
LAST-MODIFIED:20250815T184449Z
UID:1249-1758041100-1758047400@www.epcsww.org
SUMMARY:Member Meeting
DESCRIPTION:“Estate Planning for Modern Families: Planning for Diversity and Flexibility”\nWendy Goffe\nOgden Murphy Wallace P.L.L.C. \n4:45 p.m. | Social/Networking\n5:30-6:30 p.m. | Dinner Service and Speaker Presentation
URL:https://www.epcsww.org/event/member-meeting-11/
LOCATION:Heathman Lodge\, 7801 NE Greenwood Drive\, Vancouver\, WA\, 98662\, United States
END:VEVENT
END:VCALENDAR